BEGIN:VCALENDAR
VERSION:2.0
PRODID:-//DIGITAL FACTORY//EVENTS MAKER V1.6.14//EN
CALSCALE:GREGORIAN
BEGIN:VEVENT
DTEND:20160910
UID:69ea506e72074
DTSTAMP:20260423T170134Z
DESCRIPTION:[caption id="attachment_14" align="alignnone" width="1057"] 34th Annual POW Invite[/caption]
URL;VALUE=URI:https://prisonersofwomen.com/events/event/16/
SUMMARY:34th Annual EG POW Open
DTSTART:20160910
END:VEVENT
END:VCALENDAR
