BEGIN:VCALENDAR
VERSION:2.0
PRODID:-//DIGITAL FACTORY//EVENTS MAKER V1.6.14//EN
CALSCALE:GREGORIAN
BEGIN:VEVENT
DTEND:20170910
UID:69ea551f03379
DTSTAMP:20260423T172135Z
DESCRIPTION:I’m not saying my golf game went bad\, but if I grew tomatoes\, they’d come up sliced. – Lee Trevino    2017 will be the 35th anniversary of this most excellent and bodacious golfing event.  I propose that we make the attempt to get everyone that has ever played in this event back for at least one last EG POW Open.  Over the last several years we have lost three POW's that we know about.  Dudes\, we ain't getting any younger. So if you have info on our past participants please get that information to SBD "NEWMAN" so we can start herding the cats.  We can call it "The Hell Freezes Over" EG POW Open or the "We Ain't Getting Any Younger" EG POW Open or something original from the Grand PooBah.  We can make 2017 something for the aged\, I mean AGES.
URL;VALUE=URI:https://prisonersofwomen.com/events/event/35th-eg-pow-open-reunion-extravaganza/
SUMMARY:35th EG POW Open Reunion Extravaganza
DTSTART:20170909
END:VEVENT
END:VCALENDAR
