BEGIN:VCALENDAR
VERSION:2.0
PRODID:-//DIGITAL FACTORY//EVENTS MAKER V1.6.14//EN
CALSCALE:GREGORIAN
BEGIN:VEVENT
DTEND:20200913T132000Z
UID:69ea4e19ca070
DTSTAMP:20260423T165137Z
DESCRIPTION:POW POW POW
URL;VALUE=URI:https://prisonersofwomen.com/events/event/37th-annual-eg-pow-open/
SUMMARY:38th Annual EG POW Open
DTSTART:20200911T122000Z
END:VEVENT
END:VCALENDAR
